BEGIN:VCALENDAR
VERSION:2.0
PRODID:-//Z88 - ECPv6.0.9//NONSGML v1.0//EN
CALSCALE:GREGORIAN
METHOD:PUBLISH
X-ORIGINAL-URL:https://www.z88.ch
X-WR-CALDESC:Veranstaltungen für Z88
REFRESH-INTERVAL;VALUE=DURATION:PT1H
X-Robots-Tag:noindex
X-PUBLISHED-TTL:PT1H
BEGIN:VTIMEZONE
TZID:Europe/Paris
BEGIN:DAYLIGHT
TZOFFSETFROM:+0100
TZOFFSETTO:+0200
TZNAME:CEST
DTSTART:20240331T010000
END:DAYLIGHT
BEGIN:STANDARD
TZOFFSETFROM:+0200
TZOFFSETTO:+0100
TZNAME:CET
DTSTART:20241027T010000
END:STANDARD
END:VTIMEZONE
BEGIN:VEVENT
DTSTART;TZID=Europe/Paris:20241108T080000
DTEND;TZID=Europe/Paris:20241109T020000
DTSTAMP:20260421T172523
CREATED:20241028T115458Z
LAST-MODIFIED:20241028T115458Z
UID:4944-1731052800-1731117600@www.z88.ch
SUMMARY:Karaoke Night
DESCRIPTION:Singen und tanzen im Z88. Die mega Party für jung und alt!
URL:https://www.z88.ch/event/karaoke-night-8/
LOCATION:Z88
CATEGORIES:Karaoke
ORGANIZER;CN="Z88":MAILTO:info@z88.ch
END:VEVENT
BEGIN:VEVENT
DTSTART;TZID=Europe/Paris:20241129T080000
DTEND;TZID=Europe/Paris:20241130T020000
DTSTAMP:20260421T172523
CREATED:20241028T115825Z
LAST-MODIFIED:20241028T120106Z
UID:4947-1732867200-1732932000@www.z88.ch
SUMMARY:Karaoke Night
DESCRIPTION:Singspass und Party für alle!
URL:https://www.z88.ch/event/karaoke-night-9/
LOCATION:Z88
CATEGORIES:Karaoke
ORGANIZER;CN="Z88":MAILTO:info@z88.ch
END:VEVENT
END:VCALENDAR