BEGIN:VCALENDAR
VERSION:2.0
PRODID:-//Z88 - ECPv6.0.9//NONSGML v1.0//EN
CALSCALE:GREGORIAN
METHOD:PUBLISH
X-ORIGINAL-URL:https://www.z88.ch
X-WR-CALDESC:Veranstaltungen für Z88
REFRESH-INTERVAL;VALUE=DURATION:PT1H
X-Robots-Tag:noindex
X-PUBLISHED-TTL:PT1H
BEGIN:VTIMEZONE
TZID:UTC
BEGIN:STANDARD
TZOFFSETFROM:+0000
TZOFFSETTO:+0000
TZNAME:UTC
DTSTART:20230101T000000
END:STANDARD
END:VTIMEZONE
BEGIN:VEVENT
DTSTART;TZID=UTC:20230113T180000
DTEND;TZID=UTC:20230113T233000
DTSTAMP:20260423T064215
CREATED:20230109T230109Z
LAST-MODIFIED:20230109T231348Z
UID:4402-1673632800-1673652600@www.z88.ch
SUMMARY:Karaoke & Dance Night
DESCRIPTION:Beizbetrieb ab 18:00 Uhr mit Karaoke-Night ab 20:00 Uhr auf unserer Z88 Bühne mit Profi-Gesangsanlage. Bring Deine Freunde mit\, auf unserer Bühne hat es viel Platz. Jede Menge Spass\, Applaus für Eure Auftritte\, Platz für Tanzeinlagen – wir feiern das Leben! Seid Ihr dabei?
URL:https://www.z88.ch/event/karaoke-dance-night/
CATEGORIES:Party
END:VEVENT
END:VCALENDAR